BEGIN:VCALENDAR
VERSION:2.0
PRODID:-//Ripa MFK - ECPv6.15.20//NONSGML v1.0//EN
CALSCALE:GREGORIAN
METHOD:PUBLISH
X-ORIGINAL-URL:https://ripamfk.com
X-WR-CALDESC:Händelser för Ripa MFK
REFRESH-INTERVAL;VALUE=DURATION:PT1H
X-Robots-Tag:noindex
X-PUBLISHED-TTL:PT1H
BEGIN:VTIMEZONE
TZID:Europe/Paris
BEGIN:DAYLIGHT
TZOFFSETFROM:+0100
TZOFFSETTO:+0200
TZNAME:CEST
DTSTART:20250330T010000
END:DAYLIGHT
BEGIN:STANDARD
TZOFFSETFROM:+0200
TZOFFSETTO:+0100
TZNAME:CET
DTSTART:20251026T010000
END:STANDARD
BEGIN:DAYLIGHT
TZOFFSETFROM:+0100
TZOFFSETTO:+0200
TZNAME:CEST
DTSTART:20260329T010000
END:DAYLIGHT
BEGIN:STANDARD
TZOFFSETFROM:+0200
TZOFFSETTO:+0100
TZNAME:CET
DTSTART:20261025T010000
END:STANDARD
BEGIN:DAYLIGHT
TZOFFSETFROM:+0100
TZOFFSETTO:+0200
TZNAME:CEST
DTSTART:20270328T010000
END:DAYLIGHT
BEGIN:STANDARD
TZOFFSETFROM:+0200
TZOFFSETTO:+0100
TZNAME:CET
DTSTART:20271031T010000
END:STANDARD
END:VTIMEZONE
BEGIN:VEVENT
DTSTART;TZID=Europe/Paris:20260321T123000
DTEND;TZID=Europe/Paris:20260321T153000
DTSTAMP:20260420T222306
CREATED:20260129T212355Z
LAST-MODIFIED:20260129T212355Z
UID:1148-1774096200-1774107000@ripamfk.com
SUMMARY:Årsmöte 2026
DESCRIPTION:Årsmöte i idrottsföreningens lokaler i yngsjö.
URL:https://ripamfk.com/event/arsmote-2026/
END:VEVENT
BEGIN:VEVENT
DTSTART;TZID=Europe/Paris:20260514T150000
DTEND;TZID=Europe/Paris:20260517T170000
DTSTAMP:20260420T222306
CREATED:20241229T141319Z
LAST-MODIFIED:20260201T144907Z
UID:748-1778770800-1779037200@ripamfk.com
SUMMARY:Kristiflygar meeting
DESCRIPTION:2026 RIPA Kristi och Midsommar  \nmaila till bokaplats@ripamfk.com för att boka din plats.
URL:https://ripamfk.com/event/kristiflygar-meeting/
END:VEVENT
BEGIN:VEVENT
DTSTART;TZID=Europe/Paris:20260612T150000
DTEND;TZID=Europe/Paris:20260614T210000
DTSTAMP:20260420T222306
CREATED:20260129T212908Z
LAST-MODIFIED:20260129T212908Z
UID:1153-1781276400-1781470800@ripamfk.com
SUMMARY:iMac tävling! Fältet stängt för övrigt flyg
DESCRIPTION:Fältet är stängt lördag och söndag pga iMac tävling.
URL:https://ripamfk.com/event/imac-tavling-faltet-stangt-for-ovrigt-flyg/
END:VEVENT
BEGIN:VEVENT
DTSTART;TZID=Europe/Paris:20260618T150000
DTEND;TZID=Europe/Paris:20260621T150000
DTSTAMP:20260420T222306
CREATED:20241229T142008Z
LAST-MODIFIED:20260201T145103Z
UID:750-1781794800-1782054000@ripamfk.com
SUMMARY:Midsommar meeting
DESCRIPTION:2026 RIPA Kristi och Midsommar traditionsenligt midsommar firande! Vi klär midsommarstången\, äter jordgubbstårta och äter vår medhavda mat i pergolan tillsammans. \nmaila till bokaplats@ripamfk.com för att boka din plats.
URL:https://ripamfk.com/event/midsommar-meeting/
END:VEVENT
BEGIN:VEVENT
DTSTART;TZID=Europe/Paris:20260713T090000
DTEND;TZID=Europe/Paris:20260718T210000
DTSTAMP:20260420T222306
CREATED:20260129T213747Z
LAST-MODIFIED:20260129T213747Z
UID:1158-1783933200-1784408400@ripamfk.com
SUMMARY:Ripaveckan 2026!
DESCRIPTION:Mer info och inbjudan kommer men det är redan dags att plenars inför årets bästa vecka! Säkra din plats genom att maila  till bokaplats@ripamfk.com
URL:https://ripamfk.com/event/ripaveckan-2026/
END:VEVENT
END:VCALENDAR