BEGIN:VCALENDAR
VERSION:2.0
PRODID:-//Ripa MFK - ECPv6.15.20//NONSGML v1.0//EN
CALSCALE:GREGORIAN
METHOD:PUBLISH
X-WR-CALNAME:Ripa MFK
X-ORIGINAL-URL:https://ripamfk.com
X-WR-CALDESC:Händelser för Ripa MFK
REFRESH-INTERVAL;VALUE=DURATION:PT1H
X-Robots-Tag:noindex
X-PUBLISHED-TTL:PT1H
BEGIN:VTIMEZONE
TZID:Europe/Paris
BEGIN:DAYLIGHT
TZOFFSETFROM:+0100
TZOFFSETTO:+0200
TZNAME:CEST
DTSTART:20240331T010000
END:DAYLIGHT
BEGIN:STANDARD
TZOFFSETFROM:+0200
TZOFFSETTO:+0100
TZNAME:CET
DTSTART:20241027T010000
END:STANDARD
BEGIN:DAYLIGHT
TZOFFSETFROM:+0100
TZOFFSETTO:+0200
TZNAME:CEST
DTSTART:20250330T010000
END:DAYLIGHT
BEGIN:STANDARD
TZOFFSETFROM:+0200
TZOFFSETTO:+0100
TZNAME:CET
DTSTART:20251026T010000
END:STANDARD
BEGIN:DAYLIGHT
TZOFFSETFROM:+0100
TZOFFSETTO:+0200
TZNAME:CEST
DTSTART:20260329T010000
END:DAYLIGHT
BEGIN:STANDARD
TZOFFSETFROM:+0200
TZOFFSETTO:+0100
TZNAME:CET
DTSTART:20261025T010000
END:STANDARD
END:VTIMEZONE
BEGIN:VEVENT
DTSTART;TZID=Europe/Paris:20251102T160000
DTEND;TZID=Europe/Paris:20251102T180000
DTSTAMP:20260421T164035
CREATED:20251001T102338Z
LAST-MODIFIED:20251001T102338Z
UID:1090-1762099200-1762106400@ripamfk.com
SUMMARY:Inomhusflyg Kristianstad arena!
DESCRIPTION:Håll koll på vår Facebooksida så det inte blivit inställt!
URL:https://ripamfk.com/event/inomhusflyg-kristianstad-arena/
END:VEVENT
END:VCALENDAR